{"text_format":"3","workbook":"xlsx","n_sheets":1,"sheets":["推荐学生名单"],"not_rendered":{"external_links":1,"defined_names":1},"read":"whole","date_system":"1900"}

{"sheet":"推荐学生名单","index":0,"n_rows":63,"n_cols":22,"rows_kept":63}
["序号","学号","姓名","性别","政治面貌","学院名称","专业名称（全称）","专业代码","是否受过纪律处分","所有课程考核成绩是否合格","前三年必修课程成绩总优良率","前三年专业年级综合测评排名（每学年都需填写）","前三年必修课加权平均成绩\n（满分70分）","前三年综合测评成绩\n（满分10分）","综合评价和学术专长成绩\n（满分20分）","综合成绩","综合成绩专业排名","专业总人数","申请推荐类别","是否推荐（是或候补）","按推免要求学生应该具备的条件或计入综合成绩的各类活动、经历、以及科研成果、竞赛获奖等学术专长2","备注"]
["1",2020010194,"于光远","男","共青团员","地球科学学院","地质学","070901","否","是",{"$f":"VLOOKUP(C2,[1]Sheet1!$C$2:$Z$166,18,0)","v":{"v":0.977777777777778,"d":"97.78%"}},"13/193\n3/38\n12/37",{"$f":"VLOOKUP(C2,[1]Sheet1!$C$2:$Z$166,4,0)","v":{"v":64.3910638297872,"d":"64.39"}},{"$f":"VLOOKUP(C2,[1]Sheet1!$C$2:$Z$166,9,0)","v":{"v":9.38911838357964,"d":"9.39"}},{"$f":"VLOOKUP(C2,[1]Sheet1!$C$2:$Z$166,15,0)","v":{"v":2,"d":"2.00"}},{"$f":"VLOOKUP(C2,[1]Sheet1!$C$2:$Z$166,16,0)","v":{"v":75.7801822133669,"d":"75.78"}},{"$f":"VLOOKUP(C2,[1]Sheet1!$C$2:$Z$166,2,0)","v":1},"37","普通推免","是"]
["2",2020010041,"陈毅","男","共青团员","地球科学学院","地质学","070901","否","是",{"$f":"VLOOKUP(C3,[1]Sheet1!$C$2:$Z$166,18,0)","v":{"v":0.956521739130435,"d":"95.65%"}},"15/193\n1/38\n13/37",{"$f":"VLOOKUP(C3,[1]Sheet1!$C$2:$Z$166,4,0)","v":{"v":62.5246913580247,"d":"62.52"}},{"$f":"VLOOKUP(C3,[1]Sheet1!$C$2:$Z$166,9,0)","v":{"v":9.71683161124311,"d":"9.72"}},{"$f":"VLOOKUP(C3,[1]Sheet1!$C$2:$Z$166,15,0)","v":{"v":2.9336,"d":"2.93"}},{"$f":"VLOOKUP(C3,[1]Sheet1!$C$2:$Z$166,16,0)","v":{"v":75.1751229692678,"d":"75.18"}},{"$f":"VLOOKUP(C3,[1]Sheet1!$C$2:$Z$166,2,0)","v":2},"37","国家专项博士","是"]
["3",2020010038,"吴明金","男","共青团员","地球科学学院","地质学","070901","否","是",{"$f":"VLOOKUP(C4,[1]Sheet1!$C$2:$Z$166,18,0)","v":{"v":0.955555555555556,"d":"95.56%"}},"18/193\n2/38\n7/37",{"$f":"VLOOKUP(C4,[1]Sheet1!$C$2:$Z$166,4,0)","v":{"v":63.20622406639,"d":"63.21"}},{"$f":"VLOOKUP(C4,[1]Sheet1!$C$2:$Z$166,9,0)","v":{"v":9.51794785642832,"d":"9.52"}},{"$f":"VLOOKUP(C4,[1]Sheet1!$C$2:$Z$166,15,0)","v":{"v":2.4,"d":"2.40"}},{"$f":"VLOOKUP(C4,[1]Sheet1!$C$2:$Z$166,16,0)","v":{"v":75.1241719228184,"d":"75.12"}},{"$f":"VLOOKUP(C4,[1]Sheet1!$C$2:$Z$166,2,0)","v":3},"37","普通推免","是"]
["4",2020010042,"李德伟","男","共青团员","地球科学学院","地质学","070901","否","是",{"$f":"VLOOKUP(C5,[1]Sheet1!$C$2:$Z$166,18,0)","v":{"v":0.956521739130435,"d":"95.65%"}},"30/193\n4/38\n9/37",{"$f":"VLOOKUP(C5,[1]Sheet1!$C$2:$Z$166,4,0)","v":{"v":61.4358024691358,"d":"61.44"}},{"$f":"VLOOKUP(C5,[1]Sheet1!$C$2:$Z$166,9,0)","v":{"v":9.38144587415605,"d":"9.38"}},{"$f":"VLOOKUP(C5,[1]Sheet1!$C$2:$Z$166,15,0)","v":2.48},{"$f":"VLOOKUP(C5,[1]Sheet1!$C$2:$Z$166,16,0)","v":{"v":73.2972483432919,"d":"73.30"}},{"$f":"VLOOKUP(C5,[1]Sheet1!$C$2:$Z$166,2,0)","v":4},"37","国家专项硕士","是"]
["5",2019010072,"李莹","女","共青团员","地球科学学院","地质学","070901","否","是",{"$f":"VLOOKUP(C6,[1]Sheet1!$C$2:$Z$166,18,0)","v":{"v":0.926829268292683,"d":"92.68%"}},"19/193\n7/38\n10/37",{"$f":"VLOOKUP(C6,[1]Sheet1!$C$2:$Z$166,4,0)","v":{"v":61.8926724137931,"d":"61.89"}},{"$f":"VLOOKUP(C6,[1]Sheet1!$C$2:$Z$166,9,0)","v":{"v":9.28168112864472,"d":"9.28"}},{"$f":"VLOOKUP(C6,[1]Sheet1!$C$2:$Z$166,15,0)","v":{"v":2,"d":"2.00"}},{"$f":"VLOOKUP(C6,[1]Sheet1!$C$2:$Z$166,16,0)","v":{"v":73.1743535424378,"d":"73.17"}},{"$f":"VLOOKUP(C6,[1]Sheet1!$C$2:$Z$166,2,0)","v":5},"37","普通推免","是"]
["6",2020010063,"苏洋","女","共青团员","地球科学学院","地质学","070901","否","是",{"$f":"VLOOKUP(C7,[1]Sheet1!$C$2:$Z$166,18,0)","v":{"v":0.869565217391304,"d":"86.96%"}},"33/193\n5/38\n1/37",{"$f":"VLOOKUP(C7,[1]Sheet1!$C$2:$Z$166,4,0)","v":{"v":61.5481481481481,"d":"61.55"}},{"$f":"VLOOKUP(C7,[1]Sheet1!$C$2:$Z$166,9,0)","v":{"v":9.47316221371727,"d":"9.47"}},{"$f":"VLOOKUP(C7,[1]Sheet1!$C$2:$Z$166,15,0)","v":{"v":2,"d":"2.00"}},{"$f":"VLOOKUP(C7,[1]Sheet1!$C$2:$Z$166,16,0)","v":{"v":73.0213103618654,"d":"73.02"}},{"$f":"VLOOKUP(C7,[1]Sheet1!$C$2:$Z$166,2,0)","v":6},"37","本博一体化","是","四级509/六级482 满足本博英语条件"]
["7",2020010051,"黄铖铮","男","共青团员","地球科学学院","地质学","070901","否","是",{"$f":"VLOOKUP(C8,[1]Sheet1!$C$2:$Z$166,18,0)","v":{"v":0.782608695652174,"d":"78.26%"}},"31/193\n14/38\n8/37",{"$f":"VLOOKUP(C8,[1]Sheet1!$C$2:$Z$166,4,0)","v":{"v":60.5024691358025,"d":"60.50"}},{"$f":"VLOOKUP(C8,[1]Sheet1!$C$2:$Z$166,9,0)","v":{"v":9.15345777805816,"d":"9.15"}},{"$f":"VLOOKUP(C8,[1]Sheet1!$C$2:$Z$166,15,0)","v":{"v":2,"d":"2.00"}},{"$f":"VLOOKUP(C8,[1]Sheet1!$C$2:$Z$166,16,0)","v":{"v":71.6559269138606,"d":"71.66"}},{"$f":"VLOOKUP(C8,[1]Sheet1!$C$2:$Z$166,2,0)","v":7},"37","普通推免","是"]
["8",2020010078,"杨薰","男","共青团员","地球科学学院","地质学","070901","否","是",{"$f":"VLOOKUP(C9,[1]Sheet1!$C$2:$Z$166,18,0)","v":{"v":0.934782608695652,"d":"93.48%"}},"35/193\n8/38\n14/37",{"$f":"VLOOKUP(C9,[1]Sheet1!$C$2:$Z$166,4,0)","v":{"v":60.3238683127572,"d":"60.32"}},{"$f":"VLOOKUP(C9,[1]Sheet1!$C$2:$Z$166,9,0)","v":{"v":8.99983667606393,"d":"9.00"}},{"$f":"VLOOKUP(C9,[1]Sheet1!$C$2:$Z$166,15,0)","v":{"v":2,"d":"2.00"}},{"$f":"VLOOKUP(C9,[1]Sheet1!$C$2:$Z$166,16,0)","v":{"v":71.3237049888211,"d":"71.32"}},{"$f":"VLOOKUP(C9,[1]Sheet1!$C$2:$Z$166,2,0)","v":8},"37","国家专项硕士","是"]
["9",2020010026,"王雨轩","男","共青团员","地球科学学院","地质学","070901","否","是",{"$f":"VLOOKUP(C10,[1]Sheet1!$C$2:$Z$166,18,0)","v":{"v":0.886363636363636,"d":"88.64%"}},"21/193\n16/38\n15/37",{"$f":"VLOOKUP(C10,[1]Sheet1!$C$2:$Z$166,4,0)","v":{"v":61.3255506607929,"d":"61.33"}},{"$f":"VLOOKUP(C10,[1]Sheet1!$C$2:$Z$166,9,0)","v":{"v":8.97129496129838,"d":"8.97"}},{"$f":"VLOOKUP(C10,[1]Sheet1!$C$2:$Z$166,15,0)","v":{"v":1,"d":"1.00"}},{"$f":"VLOOKUP(C10,[1]Sheet1!$C$2:$Z$166,16,0)","v":{"v":71.2968456220913,"d":"71.30"}},{"$f":"VLOOKUP(C10,[1]Sheet1!$C$2:$Z$166,2,0)","v":9},"37","普通推免","是"]
["10",2020010057,"党文乐","女","共青团员","地球科学学院","地质学","070901","否","是",{"$f":"VLOOKUP(C11,[1]Sheet1!$C$2:$Z$166,18,0)","v":{"v":0.826086956521739,"d":"82.61%"}},"58/193\n11/38\n6/37",{"$f":"VLOOKUP(C11,[1]Sheet1!$C$2:$Z$166,4,0)","v":{"v":60.1654320987654,"d":"60.17"}},{"$f":"VLOOKUP(C11,[1]Sheet1!$C$2:$Z$166,9,0)","v":{"v":9.11541925357379,"d":"9.12"}},{"$f":"VLOOKUP(C11,[1]Sheet1!$C$2:$Z$166,15,0)","v":{"v":2,"d":"2.00"}},{"$f":"VLOOKUP(C11,[1]Sheet1!$C$2:$Z$166,16,0)","v":{"v":71.2808513523392,"d":"71.28"}},{"$f":"VLOOKUP(C11,[1]Sheet1!$C$2:$Z$166,2,0)","v":10},"37","国家专项硕士","是"]
["11",2020010167,"宋欣恺","男","共青团员","地球科学学院","地质学","070901","否","是",{"$f":"VLOOKUP(C12,[1]Sheet1!$C$2:$Z$166,18,0)","v":{"v":0.847826086956522,"d":"84.78%"}},"42/193\n17/38\n18/37",{"$f":"VLOOKUP(C12,[1]Sheet1!$C$2:$Z$166,4,0)","v":{"v":60.7588477366255,"d":"60.76"}},{"$f":"VLOOKUP(C12,[1]Sheet1!$C$2:$Z$166,9,0)","v":{"v":8.72668968240501,"d":"8.73"}},{"$f":"VLOOKUP(C12,[1]Sheet1!$C$2:$Z$166,15,0)","v":{"v":1,"d":"1.00"}},{"$f":"VLOOKUP(C12,[1]Sheet1!$C$2:$Z$166,16,0)","v":{"v":70.4855374190305,"d":"70.49"}},{"$f":"VLOOKUP(C12,[1]Sheet1!$C$2:$Z$166,2,0)","v":11},"37","国家专项硕士","是"]
["12",2020010027,"王中瑞","男","中共党员","地球科学学院","地质学","070901","否","是",{"$f":"VLOOKUP(C13,[1]Sheet1!$C$2:$Z$166,18,0)","v":{"v":0.760869565217391,"d":"76.09%"}},"49/193\n6/38\n2/37",{"$f":"VLOOKUP(C13,[1]Sheet1!$C$2:$Z$166,4,0)","v":{"v":58.7654320987654,"d":"58.77"}},{"$f":"VLOOKUP(C13,[1]Sheet1!$C$2:$Z$166,9,0)","v":{"v":9.27791083429496,"d":"9.28"}},{"$f":"VLOOKUP(C13,[1]Sheet1!$C$2:$Z$166,15,0)","v":{"v":2,"d":"2.00"}},{"$f":"VLOOKUP(C13,[1]Sheet1!$C$2:$Z$166,16,0)","v":{"v":70.0433429330604,"d":"70.04"}},{"$f":"VLOOKUP(C13,[1]Sheet1!$C$2:$Z$166,2,0)","v":12},"37","普通推免","是"]
["13",2020010064,"李维芬","女","共青团员","地球科学学院","地质学","070901","否","是",{"$f":"VLOOKUP(C14,[1]Sheet1!$C$2:$Z$166,18,0)","v":{"v":0.760869565217391,"d":"76.09%"}},"69/193\n13/38\n11/37",{"$f":"VLOOKUP(C14,[1]Sheet1!$C$2:$Z$166,4,0)","v":{"v":58.9786008230453,"d":"58.98"}},{"$f":"VLOOKUP(C14,[1]Sheet1!$C$2:$Z$166,9,0)","v":{"v":8.97102440127057,"d":"8.97"}},{"$f":"VLOOKUP(C14,[1]Sheet1!$C$2:$Z$166,15,0)","v":{"v":2,"d":"2.00"}},{"$f":"VLOOKUP(C14,[1]Sheet1!$C$2:$Z$166,16,0)","v":{"v":69.9496252243158,"d":"69.95"}},{"$f":"VLOOKUP(C14,[1]Sheet1!$C$2:$Z$166,2,0)","v":13},"37","普通推免","是"]
["14",2020010008,"冈子杨","女","共青团员","地球科学学院","地质学","070901","否","是",{"$f":"VLOOKUP(C15,[1]Sheet1!$C$2:$Z$166,18,0)","v":{"v":0.739130434782609,"d":"73.91%"}},"83/193\n9/38\n5/37",{"$f":"VLOOKUP(C15,[1]Sheet1!$C$2:$Z$166,4,0)","v":{"v":58.8316872427983,"d":"58.83"}},{"$f":"VLOOKUP(C15,[1]Sheet1!$C$2:$Z$166,9,0)","v":{"v":9.10352168525849,"d":"9.10"}},{"$f":"VLOOKUP(C15,[1]Sheet1!$C$2:$Z$166,15,0)","v":{"v":2,"d":"2.00"}},{"$f":"VLOOKUP(C15,[1]Sheet1!$C$2:$Z$166,16,0)","v":{"v":69.9352089280568,"d":"69.94"}},{"$f":"VLOOKUP(C15,[1]Sheet1!$C$2:$Z$166,2,0)","v":14},"37","普通推免","是"]
["15",2020010036,"李佳蓉","女","中共党员","地球科学学院","地质学","070901","否","是",{"$f":"VLOOKUP(C16,[1]Sheet1!$C$2:$Z$166,18,0)","v":{"v":0.760869565217391,"d":"76.09%"}},"57/193\n10/38\n4/37",{"$f":"VLOOKUP(C16,[1]Sheet1!$C$2:$Z$166,4,0)","v":{"v":57.656378600823,"d":"57.66"}},{"$f":"VLOOKUP(C16,[1]Sheet1!$C$2:$Z$166,9,0)","v":{"v":9.16172528561768,"d":"9.16"}},{"$f":"VLOOKUP(C16,[1]Sheet1!$C$2:$Z$166,15,0)","v":{"v":2,"d":"2.00"}},{"$f":"VLOOKUP(C16,[1]Sheet1!$C$2:$Z$166,16,0)","v":{"v":68.8181038864407,"d":"68.82"}},{"$f":"VLOOKUP(C16,[1]Sheet1!$C$2:$Z$166,2,0)","v":15},"37","本博一体化","是","四级465 满足本博英语条件"]
["16",2020010079,"娄松杨","男","共青团员","地球科学学院","资源勘查工程","081403","否","是",{"$f":"VLOOKUP(C17,[1]Sheet1!$C$2:$Z$166,18,0)","v":{"v":0.959183673469388,"d":"95.92%"}},"5/193\n4/130\n1/128",{"$f":"VLOOKUP(C17,[1]Sheet1!$C$2:$Z$166,4,0)","v":{"v":64.536032388664,"d":"64.54"}},{"$f":"VLOOKUP(C17,[1]Sheet1!$C$2:$Z$166,9,0)","v":{"v":9.81644837006763,"d":"9.82"}},{"$f":"VLOOKUP(C17,[1]Sheet1!$C$2:$Z$166,15,0)","v":{"v":3.6536,"d":"3.65"}},{"$f":"VLOOKUP(C17,[1]Sheet1!$C$2:$Z$166,16,0)","v":{"v":78.0060807587316,"d":"78.01"}},{"$f":"VLOOKUP(C17,[1]Sheet1!$C$2:$Z$166,2,0)","v":1},"128","普通推免","是"]
["17",2020010169,"李玲","女","中共党员","地球科学学院","资源勘查工程","081403","否","是",{"$f":"VLOOKUP(C18,[1]Sheet1!$C$2:$Z$166,18,0)","v":{"v":0.897959183673469,"d":"89.80%"}},"10/193\n3/130\n4/128",{"$f":"VLOOKUP(C18,[1]Sheet1!$C$2:$Z$166,4,0)","v":{"v":62.8186234817814,"d":"62.82"}},{"$f":"VLOOKUP(C18,[1]Sheet1!$C$2:$Z$166,9,0)","v":{"v":9.68787068859372,"d":"9.69"}},{"$f":"VLOOKUP(C18,[1]Sheet1!$C$2:$Z$166,15,0)","v":{"v":4.4,"d":"4.40"}},{"$f":"VLOOKUP(C18,[1]Sheet1!$C$2:$Z$166,16,0)","v":{"v":76.9064941703751,"d":"76.91"}},{"$f":"VLOOKUP(C18,[1]Sheet1!$C$2:$Z$166,2,0)","v":2},"128","普通推免","是"]
["18",2020010092,"夏冉然","女","共青团员","地球科学学院","资源勘查工程","081403","否","是",{"$f":"VLOOKUP(C19,[1]Sheet1!$C$2:$Z$166,18,0)","v":{"v":0.979591836734694,"d":"97.96%"}},"3/193\n5/130\n17/128",{"$f":"VLOOKUP(C19,[1]Sheet1!$C$2:$Z$166,4,0)","v":{"v":64.2753036437247,"d":"64.28"}},{"$f":"VLOOKUP(C19,[1]Sheet1!$C$2:$Z$166,9,0)","v":{"v":9.65474067498907,"d":"9.65"}},{"$f":"VLOOKUP(C19,[1]Sheet1!$C$2:$Z$166,15,0)","v":{"v":2,"d":"2.00"}},{"$f":"VLOOKUP(C19,[1]Sheet1!$C$2:$Z$166,16,0)","v":{"v":75.9300443187138,"d":"75.93"}},{"$f":"VLOOKUP(C19,[1]Sheet1!$C$2:$Z$166,2,0)","v":3},"128","普通推免","是"]
["19",2020010012,"金世贵","男","中共党员","地球科学学院","资源勘查工程","081403","否","是",{"$f":"VLOOKUP(C20,[1]Sheet1!$C$2:$Z$166,18,0)","v":{"v":0.938775510204082,"d":"93.88%"}},"2/193\n1/130\n9/128",{"$f":"VLOOKUP(C20,[1]Sheet1!$C$2:$Z$166,4,0)","v":{"v":63.6518218623482,"d":"63.65"}},{"$f":"VLOOKUP(C20,[1]Sheet1!$C$2:$Z$166,9,0)","v":{"v":9.88601176432177,"d":"9.89"}},{"$f":"VLOOKUP(C20,[1]Sheet1!$C$2:$Z$166,15,0)","v":{"v":2,"d":"2.00"}},{"$f":"VLOOKUP(C20,[1]Sheet1!$C$2:$Z$166,16,0)","v":{"v":75.53783362667,"d":"75.54"}},{"$f":"VLOOKUP(C20,[1]Sheet1!$C$2:$Z$166,2,0)","v":4},"128","本博一体化","是","四级522/六级446 满足本博英语条件"]
["20",2020010110,"史国梁","男","共青团员","地球科学学院","资源勘查工程","081403","否","是",{"$f":"VLOOKUP(C21,[1]Sheet1!$C$2:$Z$166,18,0)","v":{"v":0.957446808510638,"d":"95.74%"}},"7/193\n14/130\n29/128",{"$f":"VLOOKUP(C21,[1]Sheet1!$C$2:$Z$166,4,0)","v":{"v":64.0484978540773,"d":"64.05"}},{"$f":"VLOOKUP(C21,[1]Sheet1!$C$2:$Z$166,9,0)","v":{"v":9.2968660077511,"d":"9.30"}},{"$f":"VLOOKUP(C21,[1]Sheet1!$C$2:$Z$166,15,0)","v":{"v":2,"d":"2.00"}},{"$f":"VLOOKUP(C21,[1]Sheet1!$C$2:$Z$166,16,0)","v":{"v":75.3453638618284,"d":"75.35"}},{"$f":"VLOOKUP(C21,[1]Sheet1!$C$2:$Z$166,2,0)","v":5},"128","普通推免","是"]
["21",2020010072,"史泽辉","男","中共党员","地球科学学院","资源勘查工程","081403","否","是",{"$f":"VLOOKUP(C22,[1]Sheet1!$C$2:$Z$166,18,0)","v":{"v":0.959183673469388,"d":"95.92%"}},"17/193\n2/130\n7/128",{"$f":"VLOOKUP(C22,[1]Sheet1!$C$2:$Z$166,4,0)","v":{"v":63.5753036437247,"d":"63.58"}},{"$f":"VLOOKUP(C22,[1]Sheet1!$C$2:$Z$166,9,0)","v":{"v":9.61380305522588,"d":"9.61"}},{"$f":"VLOOKUP(C22,[1]Sheet1!$C$2:$Z$166,15,0)","v":{"v":2,"d":"2.00"}},{"$f":"VLOOKUP(C22,[1]Sheet1!$C$2:$Z$166,16,0)","v":{"v":75.1891066989506,"d":"75.19"}},{"$f":"VLOOKUP(C22,[1]Sheet1!$C$2:$Z$166,2,0)","v":6},"128","普通推免","是"]
["22",2020010120,"郭慧","女","共青团员","地球科学学院","资源勘查工程","081403","否","是",{"$f":"VLOOKUP(C23,[1]Sheet1!$C$2:$Z$166,18,0)","v":{"v":0.9375,"d":"93.75%"}},"11/193\n17/130\n18/128",{"$f":"VLOOKUP(C23,[1]Sheet1!$C$2:$Z$166,4,0)","v":{"v":63.7571428571429,"d":"63.76"}},{"$f":"VLOOKUP(C23,[1]Sheet1!$C$2:$Z$166,9,0)","v":{"v":9.34178932920661,"d":"9.34"}},{"$f":"VLOOKUP(C23,[1]Sheet1!$C$2:$Z$166,15,0)","v":{"v":2,"d":"2.00"}},{"$f":"VLOOKUP(C23,[1]Sheet1!$C$2:$Z$166,16,0)","v":{"v":75.0989321863495,"d":"75.10"}},{"$f":"VLOOKUP(C23,[1]Sheet1!$C$2:$Z$166,2,0)","v":7},"128","普通推免","是"]
["23",2020010075,"欧长健","男","共青团员","地球科学学院","资源勘查工程","081403","否","是",{"$f":"VLOOKUP(C24,[1]Sheet1!$C$2:$Z$166,18,0)","v":{"v":0.979591836734694,"d":"97.96%"}},"6/193\n10/130\n6/128",{"$f":"VLOOKUP(C24,[1]Sheet1!$C$2:$Z$166,4,0)","v":{"v":63.2522267206478,"d":"63.25"}},{"$f":"VLOOKUP(C24,[1]Sheet1!$C$2:$Z$166,9,0)","v":{"v":9.58907801935159,"d":"9.59"}},{"$f":"VLOOKUP(C24,[1]Sheet1!$C$2:$Z$166,15,0)","v":{"v":2,"d":"2.00"}},{"$f":"VLOOKUP(C24,[1]Sheet1!$C$2:$Z$166,16,0)","v":{"v":74.8413047399994,"d":"74.84"}},{"$f":"VLOOKUP(C24,[1]Sheet1!$C$2:$Z$166,2,0)","v":8},"128","普通推免","是"]
["24",2020010114,"潘劲捷","女","中共党员","地球科学学院","资源勘查工程","081403","否","是",{"$f":"VLOOKUP(C25,[1]Sheet1!$C$2:$Z$166,18,0)","v":{"v":0.836734693877551,"d":"83.67%"}},"1/193\n15/130\n5/128",{"$f":"VLOOKUP(C25,[1]Sheet1!$C$2:$Z$166,4,0)","v":{"v":60.3246963562753,"d":"60.32"}},{"$f":"VLOOKUP(C25,[1]Sheet1!$C$2:$Z$166,9,0)","v":{"v":9.62764611978787,"d":"9.63"}},{"$f":"VLOOKUP(C25,[1]Sheet1!$C$2:$Z$166,15,0)","v":{"v":4.4,"d":"4.40"}},{"$f":"VLOOKUP(C25,[1]Sheet1!$C$2:$Z$166,16,0)","v":{"v":74.3523424760632,"d":"74.35"}},{"$f":"VLOOKUP(C25,[1]Sheet1!$C$2:$Z$166,2,0)","v":9},"128","普通推免","是"]
["25",2020010033,"刘师晴","女","中共党员","地球科学学院","资源勘查工程","081403","否","是",{"$f":"VLOOKUP(C26,[1]Sheet1!$C$2:$Z$166,18,0)","v":{"v":0.959183673469388,"d":"95.92%"}},"22/193\n6/130\n11/128",{"$f":"VLOOKUP(C26,[1]Sheet1!$C$2:$Z$166,4,0)","v":{"v":62.6825910931174,"d":"62.68"}},{"$f":"VLOOKUP(C26,[1]Sheet1!$C$2:$Z$166,9,0)","v":{"v":9.52175812553535,"d":"9.52"}},{"$f":"VLOOKUP(C26,[1]Sheet1!$C$2:$Z$166,15,0)","v":{"v":2.1336,"d":"2.13"}},{"$f":"VLOOKUP(C26,[1]Sheet1!$C$2:$Z$166,16,0)","v":{"v":74.3379492186528,"d":"74.34"}},{"$f":"VLOOKUP(C26,[1]Sheet1!$C$2:$Z$166,2,0)","v":10},"128","普通推免","是"]
["26",2020010089,"雷雯婧","女","共青团员","地球科学学院","资源勘查工程","081403","否","是",{"$f":"VLOOKUP(C27,[1]Sheet1!$C$2:$Z$166,18,0)","v":{"v":0.836734693877551,"d":"83.67%"}},"75/193\n18/130\n22/128",{"$f":"VLOOKUP(C27,[1]Sheet1!$C$2:$Z$166,4,0)","v":{"v":61.9145748987854,"d":"61.91"}},{"$f":"VLOOKUP(C27,[1]Sheet1!$C$2:$Z$166,9,0)","v":{"v":9.04682227087692,"d":"9.05"}},{"$f":"VLOOKUP(C27,[1]Sheet1!$C$2:$Z$166,15,0)","v":{"v":3.2,"d":"3.20"}},{"$f":"VLOOKUP(C27,[1]Sheet1!$C$2:$Z$166,16,0)","v":{"v":74.1613971696623,"d":"74.16"}},{"$f":"VLOOKUP(C27,[1]Sheet1!$C$2:$Z$166,2,0)","v":11},"128","普通推免","是"]
["27",2020010148,"王瑶瑶","女","共青团员","地球科学学院","资源勘查工程","081403","否","是",{"$f":"VLOOKUP(C28,[1]Sheet1!$C$2:$Z$166,18,0)","v":{"v":0.959183673469388,"d":"95.92%"}},"36/193\n11/130\n19/128",{"$f":"VLOOKUP(C28,[1]Sheet1!$C$2:$Z$166,4,0)","v":{"v":62.5748987854251,"d":"62.57"}},{"$f":"VLOOKUP(C28,[1]Sheet1!$C$2:$Z$166,9,0)","v":{"v":9.29183272395379,"d":"9.29"}},{"$f":"VLOOKUP(C28,[1]Sheet1!$C$2:$Z$166,15,0)","v":{"v":2,"d":"2.00"}},{"$f":"VLOOKUP(C28,[1]Sheet1!$C$2:$Z$166,16,0)","v":{"v":73.8667315093789,"d":"73.87"}},{"$f":"VLOOKUP(C28,[1]Sheet1!$C$2:$Z$166,2,0)","v":12},"128","国家专项硕士","是"]
["28",2020010003,"李馨瑜","女","中共党员","地球科学学院","资源勘查工程","081403","否","是",{"$f":"VLOOKUP(C29,[1]Sheet1!$C$2:$Z$166,18,0)","v":{"v":0.857142857142857,"d":"85.71%"}},"8/193\n9/130\n2/128",{"$f":"VLOOKUP(C29,[1]Sheet1!$C$2:$Z$166,4,0)","v":{"v":60.9,"d":"60.90"}},{"$f":"VLOOKUP(C29,[1]Sheet1!$C$2:$Z$166,9,0)","v":{"v":9.66119298756062,"d":"9.66"}},{"$f":"VLOOKUP(C29,[1]Sheet1!$C$2:$Z$166,15,0)","v":{"v":2.8,"d":"2.80"}},{"$f":"VLOOKUP(C29,[1]Sheet1!$C$2:$Z$166,16,0)","v":{"v":73.3611929875606,"d":"73.36"}},{"$f":"VLOOKUP(C29,[1]Sheet1!$C$2:$Z$166,2,0)","v":13},"128","普通推免","是"]
["29",2020010088,"郭芮彤","女","共青团员","地球科学学院","资源勘查工程","081403","否","是",{"$f":"VLOOKUP(C30,[1]Sheet1!$C$2:$Z$166,18,0)","v":{"v":0.857142857142857,"d":"85.71%"}},"41/193\n30/130\n12/128",{"$f":"VLOOKUP(C30,[1]Sheet1!$C$2:$Z$166,4,0)","v":{"v":62.0222672064777,"d":"62.02"}},{"$f":"VLOOKUP(C30,[1]Sheet1!$C$2:$Z$166,9,0)","v":{"v":9.17251622861221,"d":"9.17"}},{"$f":"VLOOKUP(C30,[1]Sheet1!$C$2:$Z$166,15,0)","v":{"v":2,"d":"2.00"}},{"$f":"VLOOKUP(C30,[1]Sheet1!$C$2:$Z$166,16,0)","v":{"v":73.1947834350899,"d":"73.19"}},{"$f":"VLOOKUP(C30,[1]Sheet1!$C$2:$Z$166,2,0)","v":14},"128","本博一体化","是","四级512/六级495 满足本博英语条件"]
["30",2020010074,"曲洪达","男","共青团员","地球科学学院","资源勘查工程","081403","否","是",{"$f":"VLOOKUP(C31,[1]Sheet1!$C$2:$Z$166,18,0)","v":{"v":0.897959183673469,"d":"89.80%"}},"45/193\n25/130\n14/128",{"$f":"VLOOKUP(C31,[1]Sheet1!$C$2:$Z$166,4,0)","v":{"v":61.617004048583,"d":"61.62"}},{"$f":"VLOOKUP(C31,[1]Sheet1!$C$2:$Z$166,9,0)","v":{"v":9.16585958799129,"d":"9.17"}},{"$f":"VLOOKUP(C31,[1]Sheet1!$C$2:$Z$166,15,0)","v":{"v":2,"d":"2.00"}},{"$f":"VLOOKUP(C31,[1]Sheet1!$C$2:$Z$166,16,0)","v":{"v":72.7828636365743,"d":"72.78"}},{"$f":"VLOOKUP(C31,[1]Sheet1!$C$2:$Z$166,2,0)","v":15},"128","普通推免","是"]
["31",2020010113,"吕对林","女","共青团员","地球科学学院","资源勘查工程","081403","否","是",{"$f":"VLOOKUP(C32,[1]Sheet1!$C$2:$Z$166,18,0)","v":{"v":0.854166666666667,"d":"85.42%"}},"27/193\n19/130\n8/128",{"$f":"VLOOKUP(C32,[1]Sheet1!$C$2:$Z$166,4,0)","v":{"v":61.2428571428571,"d":"61.24"}},{"$f":"VLOOKUP(C32,[1]Sheet1!$C$2:$Z$166,9,0)","v":{"v":9.27913234576382,"d":"9.28"}},{"$f":"VLOOKUP(C32,[1]Sheet1!$C$2:$Z$166,15,0)","v":{"v":2,"d":"2.00"}},{"$f":"VLOOKUP(C32,[1]Sheet1!$C$2:$Z$166,16,0)","v":{"v":72.521989488621,"d":"72.52"}},{"$f":"VLOOKUP(C32,[1]Sheet1!$C$2:$Z$166,2,0)","v":16},"128","普通推免","是"]
["32",2020010091,"李晨旭","女","共青团员","地球科学学院","资源勘查工程","081403","否","是",{"$f":"VLOOKUP(C33,[1]Sheet1!$C$2:$Z$166,18,0)","v":{"v":0.897959183673469,"d":"89.80%"}},"34/193\n24/130\n45/128",{"$f":"VLOOKUP(C33,[1]Sheet1!$C$2:$Z$166,4,0)","v":{"v":61.3307692307692,"d":"61.33"}},{"$f":"VLOOKUP(C33,[1]Sheet1!$C$2:$Z$166,9,0)","v":{"v":8.99428382125788,"d":"8.99"}},{"$f":"VLOOKUP(C33,[1]Sheet1!$C$2:$Z$166,15,0)","v":{"v":2,"d":"2.00"}},{"$f":"VLOOKUP(C33,[1]Sheet1!$C$2:$Z$166,16,0)","v":{"v":72.3250530520271,"d":"72.33"}},{"$f":"VLOOKUP(C33,[1]Sheet1!$C$2:$Z$166,2,0)","v":17},"128","普通推免","是"]
["33",2020010172,"李娜","女","共青团员","地球科学学院","资源勘查工程","081403","否","是",{"$f":"VLOOKUP(C34,[1]Sheet1!$C$2:$Z$166,18,0)","v":{"v":0.836734693877551,"d":"83.67%"}},"24/193\n13/130\n3/128",{"$f":"VLOOKUP(C34,[1]Sheet1!$C$2:$Z$166,4,0)","v":{"v":59.465991902834,"d":"59.47"}},{"$f":"VLOOKUP(C34,[1]Sheet1!$C$2:$Z$166,9,0)","v":{"v":9.45939029663147,"d":"9.46"}},{"$f":"VLOOKUP(C34,[1]Sheet1!$C$2:$Z$166,15,0)","v":3.12},{"$f":"VLOOKUP(C34,[1]Sheet1!$C$2:$Z$166,16,0)","v":{"v":72.0453821994655,"d":"72.05"}},{"$f":"VLOOKUP(C34,[1]Sheet1!$C$2:$Z$166,2,0)","v":18},"128","普通推免","是"]
["34",2020010192,"林紫豪","男","中共党员","地球科学学院","资源勘查工程","081403","否","是",{"$f":"VLOOKUP(C35,[1]Sheet1!$C$2:$Z$166,18,0)","v":{"v":0.775510204081633,"d":"77.55%"}},"37/193\n8/130\n10/128",{"$f":"VLOOKUP(C35,[1]Sheet1!$C$2:$Z$166,4,0)","v":{"v":60.1518218623482,"d":"60.15"}},{"$f":"VLOOKUP(C35,[1]Sheet1!$C$2:$Z$166,9,0)","v":{"v":9.40416086378307,"d":"9.40"}},{"$f":"VLOOKUP(C35,[1]Sheet1!$C$2:$Z$166,15,0)","v":{"v":2.4,"d":"2.40"}},{"$f":"VLOOKUP(C35,[1]Sheet1!$C$2:$Z$166,16,0)","v":{"v":71.9559827261313,"d":"71.96"}},{"$f":"VLOOKUP(C35,[1]Sheet1!$C$2:$Z$166,2,0)","v":19},"128","普通推免","是"]
["35",2020010029,"王雪","女","共青团员","地球科学学院","资源勘查工程","081403","否","是",{"$f":"VLOOKUP(C36,[1]Sheet1!$C$2:$Z$166,18,0)","v":{"v":0.877551020408163,"d":"87.76%"}},"68/193\n32/130\n16/128",{"$f":"VLOOKUP(C36,[1]Sheet1!$C$2:$Z$166,4,0)","v":{"v":60.8914979757085,"d":"60.89"}},{"$f":"VLOOKUP(C36,[1]Sheet1!$C$2:$Z$166,9,0)","v":{"v":9.03972041668325,"d":"9.04"}},{"$f":"VLOOKUP(C36,[1]Sheet1!$C$2:$Z$166,15,0)","v":{"v":2,"d":"2.00"}},{"$f":"VLOOKUP(C36,[1]Sheet1!$C$2:$Z$166,16,0)","v":{"v":71.9312183923918,"d":"71.93"}},{"$f":"VLOOKUP(C36,[1]Sheet1!$C$2:$Z$166,2,0)","v":20},"128","普通推免","是"]
["36",2020010119,"伊丽姆努尔·买买提","女","共青团员","地球科学学院","资源勘查工程","081403","否","是",{"$f":"VLOOKUP(C37,[1]Sheet1!$C$2:$Z$166,18,0)","v":{"v":0.897959183673469,"d":"89.80%"}},"29/193\n27/130\n24/128",{"$f":"VLOOKUP(C37,[1]Sheet1!$C$2:$Z$166,4,0)","v":{"v":60.7781376518219,"d":"60.78"}},{"$f":"VLOOKUP(C37,[1]Sheet1!$C$2:$Z$166,9,0)","v":{"v":9.11955935386562,"d":"9.12"}},{"$f":"VLOOKUP(C37,[1]Sheet1!$C$2:$Z$166,15,0)","v":{"v":2,"d":"2.00"}},{"$f":"VLOOKUP(C37,[1]Sheet1!$C$2:$Z$166,16,0)","v":{"v":71.8976970056875,"d":"71.90"}},{"$f":"VLOOKUP(C37,[1]Sheet1!$C$2:$Z$166,2,0)","v":21},"128","普通推免","是"]
["37",2020010183,"梁冯韬","男","共青团员","地球科学学院","资源勘查工程","081403","否","是",{"$f":"VLOOKUP(C38,[1]Sheet1!$C$2:$Z$166,18,0)","v":{"v":0.897959183673469,"d":"89.80%"}},"87/193\n52/130\n27/128",{"$f":"VLOOKUP(C38,[1]Sheet1!$C$2:$Z$166,4,0)","v":{"v":61.8210526315789,"d":"61.82"}},{"$f":"VLOOKUP(C38,[1]Sheet1!$C$2:$Z$166,9,0)","v":{"v":8.82326269821095,"d":"8.82"}},{"$f":"VLOOKUP(C38,[1]Sheet1!$C$2:$Z$166,15,0)","v":{"v":1,"d":"1.00"}},{"$f":"VLOOKUP(C38,[1]Sheet1!$C$2:$Z$166,16,0)","v":{"v":71.6443153297899,"d":"71.64"}},{"$f":"VLOOKUP(C38,[1]Sheet1!$C$2:$Z$166,2,0)","v":22},"128","普通推免","是"]
["38",2020010144,"郭倩雯","女","共青团员","地球科学学院","资源勘查工程","081403","否","是",{"$f":"VLOOKUP(C39,[1]Sheet1!$C$2:$Z$166,18,0)","v":{"v":0.897959183673469,"d":"89.80%"}},"52/193\n31/130\n26/128",{"$f":"VLOOKUP(C39,[1]Sheet1!$C$2:$Z$166,4,0)","v":{"v":60.6392712550607,"d":"60.64"}},{"$f":"VLOOKUP(C39,[1]Sheet1!$C$2:$Z$166,9,0)","v":{"v":9.00264037998146,"d":"9.00"}},{"$f":"VLOOKUP(C39,[1]Sheet1!$C$2:$Z$166,15,0)","v":{"v":2,"d":"2.00"}},{"$f":"VLOOKUP(C39,[1]Sheet1!$C$2:$Z$166,16,0)","v":{"v":71.6419116350422,"d":"71.64"}},{"$f":"VLOOKUP(C39,[1]Sheet1!$C$2:$Z$166,2,0)","v":23},"128","普通推免","是"]
["39",2020010170,"周越","女","中共党员","地球科学学院","资源勘查工程","081403","否","是",{"$f":"VLOOKUP(C40,[1]Sheet1!$C$2:$Z$166,18,0)","v":{"v":0.836734693877551,"d":"83.67%"}},"64/193\n16/130\n21/128",{"$f":"VLOOKUP(C40,[1]Sheet1!$C$2:$Z$166,4,0)","v":{"v":60.4210526315789,"d":"60.42"}},{"$f":"VLOOKUP(C40,[1]Sheet1!$C$2:$Z$166,9,0)","v":{"v":9.11397549100699,"d":"9.11"}},{"$f":"VLOOKUP(C40,[1]Sheet1!$C$2:$Z$166,15,0)","v":{"v":2,"d":"2.00"}},{"$f":"VLOOKUP(C40,[1]Sheet1!$C$2:$Z$166,16,0)","v":{"v":71.5350281225859,"d":"71.54"}},{"$f":"VLOOKUP(C40,[1]Sheet1!$C$2:$Z$166,2,0)","v":24},"128","普通推免","是"]
["40",2020010044,"邵临波","男","中共党员","地球科学学院","资源勘查工程","081403","否","是",{"$f":"VLOOKUP(C41,[1]Sheet1!$C$2:$Z$166,18,0)","v":{"v":0.877551020408163,"d":"87.76%"}},"66/193\n22/130\n13/128",{"$f":"VLOOKUP(C41,[1]Sheet1!$C$2:$Z$166,4,0)","v":{"v":60.1631578947368,"d":"60.16"}},{"$f":"VLOOKUP(C41,[1]Sheet1!$C$2:$Z$166,9,0)","v":{"v":9.13957682569464,"d":"9.14"}},{"$f":"VLOOKUP(C41,[1]Sheet1!$C$2:$Z$166,15,0)","v":{"v":2,"d":"2.00"}},{"$f":"VLOOKUP(C41,[1]Sheet1!$C$2:$Z$166,16,0)","v":{"v":71.3027347204315,"d":"71.30"}},{"$f":"VLOOKUP(C41,[1]Sheet1!$C$2:$Z$166,2,0)","v":25},"128","国家专项博士","是"]
["41",2020010034,"李心怡","女","中共党员","地球科学学院","资源勘查工程","081403","否","是",{"$f":"VLOOKUP(C42,[1]Sheet1!$C$2:$Z$166,18,0)","v":{"v":0.836734693877551,"d":"83.67%"}},"39/193\n23/130\n36/128",{"$f":"VLOOKUP(C42,[1]Sheet1!$C$2:$Z$166,4,0)","v":{"v":60.0668016194332,"d":"60.07"}},{"$f":"VLOOKUP(C42,[1]Sheet1!$C$2:$Z$166,9,0)","v":{"v":9.0310033160543,"d":"9.03"}},{"$f":"VLOOKUP(C42,[1]Sheet1!$C$2:$Z$166,15,0)","v":{"v":2,"d":"2.00"}},{"$f":"VLOOKUP(C42,[1]Sheet1!$C$2:$Z$166,16,0)","v":{"v":71.0978049354875,"d":"71.10"}},{"$f":"VLOOKUP(C42,[1]Sheet1!$C$2:$Z$166,2,0)","v":28},"128","普通推免","是"]
["42",2020010145,"刘琳","女","共青团员","地球科学学院","资源勘查工程","081403","否","是",{"$f":"VLOOKUP(C43,[1]Sheet1!$C$2:$Z$166,18,0)","v":{"v":0.857142857142857,"d":"85.71%"}},"47/193\n43/130\n30/128",{"$f":"VLOOKUP(C43,[1]Sheet1!$C$2:$Z$166,4,0)","v":{"v":59.9987854251012,"d":"60.00"}},{"$f":"VLOOKUP(C43,[1]Sheet1!$C$2:$Z$166,9,0)","v":{"v":8.94229402309476,"d":"8.94"}},{"$f":"VLOOKUP(C43,[1]Sheet1!$C$2:$Z$166,15,0)","v":{"v":2,"d":"2.00"}},{"$f":"VLOOKUP(C43,[1]Sheet1!$C$2:$Z$166,16,0)","v":{"v":70.941079448196,"d":"70.94"}},{"$f":"VLOOKUP(C43,[1]Sheet1!$C$2:$Z$166,2,0)","v":29},"128","普通推免","是"]
["43",2020010070,"李杰客","男","共青团员","地球科学学院","资源勘查工程","081403","否","是",{"$f":"VLOOKUP(C44,[1]Sheet1!$C$2:$Z$166,18,0)","v":{"v":0.877551020408163,"d":"87.76%"}},"60/193\n37/130\n28/128",{"$f":"VLOOKUP(C44,[1]Sheet1!$C$2:$Z$166,4,0)","v":{"v":60.8234817813765,"d":"60.82"}},{"$f":"VLOOKUP(C44,[1]Sheet1!$C$2:$Z$166,9,0)","v":{"v":8.92709606870043,"d":"8.93"}},{"$f":"VLOOKUP(C44,[1]Sheet1!$C$2:$Z$166,15,0)","v":{"v":1,"d":"1.00"}},{"$f":"VLOOKUP(C44,[1]Sheet1!$C$2:$Z$166,16,0)","v":{"v":70.750577850077,"d":"70.75"}},{"$f":"VLOOKUP(C44,[1]Sheet1!$C$2:$Z$166,2,0)","v":30},"128","本博一体化","是","四级453 满足本博英语条件"]
["44",2020010191,"袁英博","男","中共党员","地球科学学院","资源勘查工程","081403","否","是",{"$f":"VLOOKUP(C45,[1]Sheet1!$C$2:$Z$166,18,0)","v":{"v":0.875,"d":"87.50%"}},"48/193\n7/130\n42/128",{"$f":"VLOOKUP(C45,[1]Sheet1!$C$2:$Z$166,4,0)","v":{"v":59.3285714285714,"d":"59.33"}},{"$f":"VLOOKUP(C45,[1]Sheet1!$C$2:$Z$166,9,0)","v":{"v":9.16433519518643,"d":"9.16"}},{"$f":"VLOOKUP(C45,[1]Sheet1!$C$2:$Z$166,15,0)","v":{"v":2,"d":"2.00"}},{"$f":"VLOOKUP(C45,[1]Sheet1!$C$2:$Z$166,16,0)","v":{"v":70.4929066237578,"d":"70.49"}},{"$f":"VLOOKUP(C45,[1]Sheet1!$C$2:$Z$166,2,0)","v":32},"128","专业+管理 助管","是","完成《青年行政能力提升》课程学习并且成绩合格"]
["45",2020010174,"魏鹏雯","女","共青团员","地球科学学院","资源勘查工程","081403","否","是",{"$f":"VLOOKUP(C46,[1]Sheet1!$C$2:$Z$166,18,0)","v":{"v":0.857142857142857,"d":"85.71%"}},"92/193\n26/130\n25/128",{"$f":"VLOOKUP(C46,[1]Sheet1!$C$2:$Z$166,4,0)","v":{"v":59.4574898785425,"d":"59.46"}},{"$f":"VLOOKUP(C46,[1]Sheet1!$C$2:$Z$166,9,0)","v":{"v":8.93431248701939,"d":"8.93"}},{"$f":"VLOOKUP(C46,[1]Sheet1!$C$2:$Z$166,15,0)","v":{"v":2,"d":"2.00"}},{"$f":"VLOOKUP(C46,[1]Sheet1!$C$2:$Z$166,16,0)","v":{"v":70.3918023655619,"d":"70.39"}},{"$f":"VLOOKUP(C46,[1]Sheet1!$C$2:$Z$166,2,0)","v":33},"128","国家专项硕士","是"]
["46",2020010087,"向子璇","女","共青团员","地球科学学院","资源勘查工程","081403","否","是",{"$f":"VLOOKUP(C47,[1]Sheet1!$C$2:$Z$166,18,0)","v":{"v":0.816326530612245,"d":"81.63%"}},"85/193\n29/130\n15/128",{"$f":"VLOOKUP(C47,[1]Sheet1!$C$2:$Z$166,4,0)","v":{"v":58.6384615384615,"d":"58.64"}},{"$f":"VLOOKUP(C47,[1]Sheet1!$C$2:$Z$166,9,0)","v":{"v":9.03649778621126,"d":"9.04"}},{"$f":"VLOOKUP(C47,[1]Sheet1!$C$2:$Z$166,15,0)","v":{"v":2.6,"d":"2.60"}},{"$f":"VLOOKUP(C47,[1]Sheet1!$C$2:$Z$166,16,0)","v":{"v":70.2749593246728,"d":"70.27"}},{"$f":"VLOOKUP(C47,[1]Sheet1!$C$2:$Z$166,2,0)","v":34},"128","国家专项硕士","是"]
["47",2020010037,"蒲浩澜","男","共青团员","地球科学学院","资源勘查工程","081403","否","是",{"$f":"VLOOKUP(C48,[1]Sheet1!$C$2:$Z$166,18,0)","v":{"v":0.836734693877551,"d":"83.67%"}},"26/193\n55/130\n44/128",{"$f":"VLOOKUP(C48,[1]Sheet1!$C$2:$Z$166,4,0)","v":{"v":59.1344129554656,"d":"59.13"}},{"$f":"VLOOKUP(C48,[1]Sheet1!$C$2:$Z$166,9,0)","v":{"v":8.93724168491218,"d":"8.94"}},{"$f":"VLOOKUP(C48,[1]Sheet1!$C$2:$Z$166,15,0)","v":{"v":2,"d":"2.00"}},{"$f":"VLOOKUP(C48,[1]Sheet1!$C$2:$Z$166,16,0)","v":{"v":70.0716546403778,"d":"70.07"}},{"$f":"VLOOKUP(C48,[1]Sheet1!$C$2:$Z$166,2,0)","v":35},"128","普通推免","是"]
["48",2020010143,"张雪","女","共青团员","地球科学学院","资源勘查工程","081403","否","是",{"$f":"VLOOKUP(C49,[1]Sheet1!$C$2:$Z$166,18,0)","v":{"v":0.795918367346939,"d":"79.59%"}},"77/193\n50/130\n41/128",{"$f":"VLOOKUP(C49,[1]Sheet1!$C$2:$Z$166,4,0)","v":{"v":59.0890688259109,"d":"59.09"}},{"$f":"VLOOKUP(C49,[1]Sheet1!$C$2:$Z$166,9,0)","v":{"v":8.79462854603545,"d":"8.79"}},{"$f":"VLOOKUP(C49,[1]Sheet1!$C$2:$Z$166,15,0)","v":{"v":2,"d":"2.00"}},{"$f":"VLOOKUP(C49,[1]Sheet1!$C$2:$Z$166,16,0)","v":{"v":69.8836973719464,"d":"69.88"}},{"$f":"VLOOKUP(C49,[1]Sheet1!$C$2:$Z$166,2,0)","v":36},"128","国家专项硕士","是"]
["49",2020010141,"隆琳茜","女","共青团员","地球科学学院","资源勘查工程","081403","否","是",{"$f":"VLOOKUP(C50,[1]Sheet1!$C$2:$Z$166,18,0)","v":{"v":0.836734693877551,"d":"83.67%"}},"62/193\n33/130\n20/128",{"$f":"VLOOKUP(C50,[1]Sheet1!$C$2:$Z$166,4,0)","v":{"v":58.2587044534413,"d":"58.26"}},{"$f":"VLOOKUP(C50,[1]Sheet1!$C$2:$Z$166,9,0)","v":{"v":9.02229668657617,"d":"9.02"}},{"$f":"VLOOKUP(C50,[1]Sheet1!$C$2:$Z$166,15,0)","v":{"v":2,"d":"2.00"}},{"$f":"VLOOKUP(C50,[1]Sheet1!$C$2:$Z$166,16,0)","v":{"v":69.2810011400175,"d":"69.28"}},{"$f":"VLOOKUP(C50,[1]Sheet1!$C$2:$Z$166,2,0)","v":42},"128","普通推免","是"]
["50",2020010189,"吉效天","男","中共党员","地球科学学院","资源勘查工程","081403","否","是",{"$f":"VLOOKUP(C51,[1]Sheet1!$C$2:$Z$166,18,0)","v":{"v":0.673469387755102,"d":"67.35%"}},"91/193\n57/130\n31/128",{"$f":"VLOOKUP(C51,[1]Sheet1!$C$2:$Z$166,4,0)","v":{"v":58.2842105263158,"d":"58.28"}},{"$f":"VLOOKUP(C51,[1]Sheet1!$C$2:$Z$166,9,0)","v":{"v":8.78376834752429,"d":"8.78"}},{"$f":"VLOOKUP(C51,[1]Sheet1!$C$2:$Z$166,15,0)","v":{"v":2,"d":"2.00"}},{"$f":"VLOOKUP(C51,[1]Sheet1!$C$2:$Z$166,16,0)","v":{"v":69.0679788738401,"d":"69.07"}},{"$f":"VLOOKUP(C51,[1]Sheet1!$C$2:$Z$166,2,0)","v":43},"128","普通推免","是"]
["51",2020010001,"栗园秋","女","共青团员","地球科学学院","资源勘查工程","081403","否","是",{"$f":"VLOOKUP(C52,[1]Sheet1!$C$2:$Z$166,18,0)","v":{"v":0.816326530612245,"d":"81.63%"}},"82/193\n34/130\n55/128",{"$f":"VLOOKUP(C52,[1]Sheet1!$C$2:$Z$166,4,0)","v":{"v":58.2728744939271,"d":"58.27"}},{"$f":"VLOOKUP(C52,[1]Sheet1!$C$2:$Z$166,9,0)","v":{"v":8.77845012845684,"d":"8.78"}},{"$f":"VLOOKUP(C52,[1]Sheet1!$C$2:$Z$166,15,0)","v":{"v":2,"d":"2.00"}},{"$f":"VLOOKUP(C52,[1]Sheet1!$C$2:$Z$166,16,0)","v":{"v":69.0513246223839,"d":"69.05"}},{"$f":"VLOOKUP(C52,[1]Sheet1!$C$2:$Z$166,2,0)","v":44},"128","普通推免","是"]
["52",2020010090,"张冰冰","女","中共党员","地球科学学院","资源勘查工程","081403","否","是",{"$f":"VLOOKUP(C53,[1]Sheet1!$C$2:$Z$166,18,0)","v":{"v":0.775510204081633,"d":"77.55%"}},"55/193\n28/130\n23/128",{"$f":"VLOOKUP(C53,[1]Sheet1!$C$2:$Z$166,4,0)","v":{"v":58.0008097165992,"d":"58.00"}},{"$f":"VLOOKUP(C53,[1]Sheet1!$C$2:$Z$166,9,0)","v":{"v":9.02746163499246,"d":"9.03"}},{"$f":"VLOOKUP(C53,[1]Sheet1!$C$2:$Z$166,15,0)","v":{"v":2,"d":"2.00"}},{"$f":"VLOOKUP(C53,[1]Sheet1!$C$2:$Z$166,16,0)","v":{"v":69.0282713515916,"d":"69.03"}},{"$f":"VLOOKUP(C53,[1]Sheet1!$C$2:$Z$166,2,0)","v":45},"128","普通推免","是"]
["53",2020010142,"阎慧琳","女","中共党员","地球科学学院","资源勘查工程","081403","否","是",{"$f":"VLOOKUP(C54,[1]Sheet1!$C$2:$Z$166,18,0)","v":{"v":0.795918367346939,"d":"79.59%"}},"74/193\n51/130\n39/128",{"$f":"VLOOKUP(C54,[1]Sheet1!$C$2:$Z$166,4,0)","v":{"v":57.8506072874494,"d":"57.85"}},{"$f":"VLOOKUP(C54,[1]Sheet1!$C$2:$Z$166,9,0)","v":{"v":8.80756862615352,"d":"8.81"}},{"$f":"VLOOKUP(C54,[1]Sheet1!$C$2:$Z$166,15,0)","v":{"v":2,"d":"2.00"}},{"$f":"VLOOKUP(C54,[1]Sheet1!$C$2:$Z$166,16,0)","v":{"v":68.6581759136029,"d":"68.66"}},{"$f":"VLOOKUP(C54,[1]Sheet1!$C$2:$Z$166,2,0)","v":50},"128","普通推免","是"]
["54",2020010010,"王康龙","男","共青团员","地球科学学院","资源勘查工程","081403","否","是",{"$f":"VLOOKUP(C55,[1]Sheet1!$C$2:$Z$166,18,0)","v":{"v":0.75,"d":"75.00%"}},"84/193\n40/130\n50/128",{"$f":"VLOOKUP(C55,[1]Sheet1!$C$2:$Z$166,4,0)","v":{"v":58.8259259259259,"d":"58.83"}},{"$f":"VLOOKUP(C55,[1]Sheet1!$C$2:$Z$166,9,0)","v":{"v":8.76017387771965,"d":"8.76"}},{"$f":"VLOOKUP(C55,[1]Sheet1!$C$2:$Z$166,15,0)","v":{"v":1,"d":"1.00"}},{"$f":"VLOOKUP(C55,[1]Sheet1!$C$2:$Z$166,16,0)","v":{"v":68.5860998036456,"d":"68.59"}},{"$f":"VLOOKUP(C55,[1]Sheet1!$C$2:$Z$166,2,0)","v":53},"128","本博一体化","是","四级509 满足本博英语条件"]
["55",2020010139,"曾维永","男","共青团员","地球科学学院","资源勘查工程","081403","否","是",{"$f":"VLOOKUP(C56,[1]Sheet1!$C$2:$Z$166,18,0)","v":{"v":0.714285714285714,"d":"71.43%"}},"88/193\n60/130\n51/128",{"$f":"VLOOKUP(C56,[1]Sheet1!$C$2:$Z$166,4,0)","v":{"v":58.7206477732793,"d":"58.72"}},{"$f":"VLOOKUP(C56,[1]Sheet1!$C$2:$Z$166,9,0)","v":{"v":8.67484659703639,"d":"8.67"}},{"$f":"VLOOKUP(C56,[1]Sheet1!$C$2:$Z$166,15,0)","v":{"v":1,"d":"1.00"}},{"$f":"VLOOKUP(C56,[1]Sheet1!$C$2:$Z$166,16,0)","v":{"v":68.3954943703157,"d":"68.40"}},{"$f":"VLOOKUP(C56,[1]Sheet1!$C$2:$Z$166,2,0)","v":55},"128","专业+管理 助管","是","完成《青年行政能力提升》课程学习并且成绩合格"]
["56",2020010146,"克露拉·阿地力江","女","共青团员","地球科学学院","资源勘查工程","081403","否","是",{"$f":"VLOOKUP(C57,[1]Sheet1!$C$2:$Z$166,18,0)","v":{"v":0.73469387755102,"d":"73.47%"}},"90/193\n59/130\n46/128",{"$f":"VLOOKUP(C57,[1]Sheet1!$C$2:$Z$166,4,0)","v":{"v":57.5076923076923,"d":"57.51"}},{"$f":"VLOOKUP(C57,[1]Sheet1!$C$2:$Z$166,9,0)","v":{"v":8.6995346907994,"d":"8.70"}},{"$f":"VLOOKUP(C57,[1]Sheet1!$C$2:$Z$166,15,0)","v":{"v":2,"d":"2.00"}},{"$f":"VLOOKUP(C57,[1]Sheet1!$C$2:$Z$166,16,0)","v":{"v":68.2072269984917,"d":"68.21"}},{"$f":"VLOOKUP(C57,[1]Sheet1!$C$2:$Z$166,2,0)","v":57},"128","普通推免","是"]
["57",2020010109,"余成明","男","中共党员","地球科学学院","资源勘查工程","081403","否","是",{"$f":"VLOOKUP(C58,[1]Sheet1!$C$2:$Z$166,18,0)","v":{"v":0.795918367346939,"d":"79.59%"}},"71/193\n61/130\n53/128",{"$f":"VLOOKUP(C58,[1]Sheet1!$C$2:$Z$166,4,0)","v":{"v":58.2955465587045,"d":"58.30"}},{"$f":"VLOOKUP(C58,[1]Sheet1!$C$2:$Z$166,9,0)","v":{"v":8.71756169460781,"d":"8.72"}},{"$f":"VLOOKUP(C58,[1]Sheet1!$C$2:$Z$166,15,0)","v":{"v":1,"d":"1.00"}},{"$f":"VLOOKUP(C58,[1]Sheet1!$C$2:$Z$166,16,0)","v":{"v":68.0131082533123,"d":"68.01"}},{"$f":"VLOOKUP(C58,[1]Sheet1!$C$2:$Z$166,2,0)","v":59},"128","本博一体化","是","四级520 满足本博英语条件"]
["58",2020010030,"岳文婧","女","共青团员","地球科学学院","资源勘查工程","081403","否","是",{"$f":"VLOOKUP(C59,[1]Sheet1!$C$2:$Z$166,18,0)","v":{"v":0.653061224489796,"d":"65.31%"}},"56/193\n64/130\n58/128",{"$f":"VLOOKUP(C59,[1]Sheet1!$C$2:$Z$166,4,0)","v":{"v":56.7085020242915,"d":"56.71"}},{"$f":"VLOOKUP(C59,[1]Sheet1!$C$2:$Z$166,9,0)","v":{"v":8.72673626765336,"d":"8.73"}},{"$f":"VLOOKUP(C59,[1]Sheet1!$C$2:$Z$166,15,0)","v":{"v":2,"d":"2.00"}},{"$f":"VLOOKUP(C59,[1]Sheet1!$C$2:$Z$166,16,0)","v":{"v":67.4352382919448,"d":"67.44"}},{"$f":"VLOOKUP(C59,[1]Sheet1!$C$2:$Z$166,2,0)","v":71},"128","普通推免","是"]
[]
[]
["注：1、身份证号码隐去出生日期，用********代替","1、网上公示请隐去身份证号。"]
[null,"2、“按推免要求学生应该具备的条件”是指学生满足某一选拔类别应具有的条件，比如校级优秀学生干部，不包括推免普遍条件。"]